BEGIN:VCALENDAR
VERSION:2.0
PRODID:-//Tukios.com/
BEGIN:VEVENT
UID:ded7c384-118d-43ce-ab81-3cbcd486acbb@www.kimmelfuneralhome.com
DTSTAMP:20260423T195313Z
DTSTART:20260530T150000Z
DTEND:20260530T160000Z
SUMMARY:Celebration of Life
DESCRIPTION:
URL:https://www.kimmelfuneralhome.com/obituaries/carole-troutman
LOCATION:Crosspoint United Methodist Church  430 Colonial Road  
	Harrisburg PA 17109
GEO:40.3060005;-76.8241212
END:VEVENT
END:VCALENDAR